BEGIN:VCALENDAR
VERSION:2.0
METHOD:PUBLISH
BEGIN:VEVENT
DTSTART:20231124T190000
DTEND:20231124T190000
LOCATION:OP ENHEIM Plac Solny 4  Wrocław
TRANSP: OPAQUE
SEQUENCE:0
UID:
DTSTAMP:20260420T001908Z
SUMMARY:Cielesność / Taniec ciemności / Butoh |  Performans Natsuko Kono
DESCRIPTION:Cielesność / Taniec ciemności / ButohPerformans Natsuko Kono Kiedy: 24.11.2023, godz. 19:00 Gdzie: Salon Herz, V p. OP ENHEIM, Plac Solny 4, Wrocław Zapisy: bit.ly/3GJa8sL Wstęp wolnyButō,......
URL:https://app.evenea.pl/event/performans/
PRIORITY:1
CLASS:PUBLIC
END:VEVENT
END:VCALENDAR
