BEGIN:VCALENDAR
VERSION:2.0
METHOD:PUBLISH
BEGIN:VEVENT
DTSTART:20251011T170000
DTEND:20251011T200000
LOCATION:Międzynarodowe Targi Poznańskie, Centrum konferencyjne Poznań Congress Center; wejście B, sala 1.G ul. Głogowska 14  60-734 Poznań
TRANSP: OPAQUE
SEQUENCE:0
UID:
DTSTAMP:20260421T153923Z
SUMMARY:IMPACT - Siła Ewangelii w Praktyce
DESCRIPTION:IMPACT - Siła Ewangelii w praktyce!Doświadcz mocy Ewangelii w praktyce! Zapraszamy na wyjątkowe spotkanie z misjonarzem Perem Hyldgaardem - czas pełen wiary, nadziei, uzdrowienia, muzyki i......
URL:https://app.evenea.pl/event/perhyldgaard-poznan/
PRIORITY:1
CLASS:PUBLIC
END:VEVENT
END:VCALENDAR
