BEGIN:VCALENDAR
VERSION:2.0
METHOD:PUBLISH
BEGIN:VEVENT
DTSTART:20230616T170000
DTEND:20230616T200000
LOCATION:AK PG Kwadratowa Siedlicka 4  Gdańsk
TRANSP: OPAQUE
SEQUENCE:0
UID:
DTSTAMP:20260419T151521Z
SUMMARY:PG Network #Offshore Meetup
DESCRIPTION:Stowarzyszenie Absolwentów PG wraz z Wydziałem Inżynierii Mechanicznej i Okrętownictwa, Samorządem Studentów PG, Inkubatorem Starter oraz Partnerami zapraszają na kolejne spotkanie z cyklu......
URL:https://app.evenea.pl/event/pgnetwork02/
PRIORITY:1
CLASS:PUBLIC
END:VEVENT
END:VCALENDAR
