BEGIN:VCALENDAR
VERSION:2.0
METHOD:PUBLISH
BEGIN:VEVENT
DTSTART:20240307T140000
DTEND:20240307T200000
LOCATION:Regionalna Izba Gospodarcza w Katowicach Opolska 15  Katowice
TRANSP: OPAQUE
SEQUENCE:0
UID:
DTSTAMP:20260422T175844Z
SUMMARY:Pierwiastek K! - spotkanie dla kobiet biznesu w RIG w Katowicach
DESCRIPTION:Wyjątkowe, inspirujące kobiety dla nadzwyczajnych i przedsiębiorczych kobiet - po raz szósty Regionalna Izba Gospodarcza w Katowicach zaprasza na Pierwiastek K! Tym razem wydarzenie odbędzie......
URL:https://app.evenea.pl/event/pierwiastekk2024/
PRIORITY:1
CLASS:PUBLIC
END:VEVENT
END:VCALENDAR
