BEGIN:VCALENDAR
VERSION:2.0
METHOD:PUBLISH
BEGIN:VEVENT
DTSTART:20220830T110000
DTEND:20220830T110000
LOCATION:   
TRANSP: OPAQUE
SEQUENCE:0
UID:
DTSTAMP:20260422T015020Z
SUMMARY:Pierwszy dzień w nowej przestrzeni - jak pomóc dziecku przed pierwszym dniem w przedszkolu/ szkole
DESCRIPTION:W czasie spotkania rodzice dowiedzą się:jakich zachowań dziecka spodziewać się w związku z pierwszym dniem w nowej przestrzeni;jak rozmawiać z dzieckiem o zmianach i jak je do nich......
URL:https://app.evenea.pl/event/pierwszy-dzien/
PRIORITY:1
CLASS:PUBLIC
END:VEVENT
END:VCALENDAR
