BEGIN:VCALENDAR
VERSION:2.0
METHOD:PUBLISH
BEGIN:VEVENT
DTSTART:20220610T160000
DTEND:20220610T160000
LOCATION:Ogrody BUW Dobra 56/66  Warszawa
TRANSP: OPAQUE
SEQUENCE:0
UID:
DTSTAMP:20260422T011411Z
SUMMARY:Piknik dla pracowników UW 2022
DESCRIPTION:...
URL:https://app.evenea.pl/event/piknikuw2022/
PRIORITY:1
CLASS:PUBLIC
END:VEVENT
END:VCALENDAR
