BEGIN:VCALENDAR
VERSION:2.0
METHOD:PUBLISH
BEGIN:VEVENT
DTSTART:20190921T150000
DTEND:20190921T150000
LOCATION:Ptak Warsaw EXPO Aleja Katowicka 62  Nadarzyn
TRANSP: OPAQUE
SEQUENCE:0
UID:
DTSTAMP:20260419T195007Z
SUMMARY:Jak zaprojektować idealną fryzurę?! - szkolenie z Pirate Paulus
DESCRIPTION:Wiecie dlaczego Paul Taylor-Clinch ma pseudonim Pirate Paulus? Ponieważ każda głowa jest dla niego wyspą z zakopanym skarbem!A co jest tym skarbem? Oczywiście idealna fryzura! Idealna czyli......
URL:https://app.evenea.pl/event/pirate-paulus/
PRIORITY:1
CLASS:PUBLIC
END:VEVENT
END:VCALENDAR
