BEGIN:VCALENDAR
VERSION:2.0
METHOD:PUBLISH
BEGIN:VEVENT
DTSTART:20210412T190000
DTEND:20210412T190000
LOCATION:   
TRANSP: OPAQUE
SEQUENCE:0
UID:
DTSTAMP:20260421T135337Z
SUMMARY:Pisanie haiku - 3 webinary dla pięknych umysłów
DESCRIPTION:Pisanie haiku - 3 webinary dla pięknych umysłów to cykl spotkań online poświęconych nauce pisania haiku. Haiku to minimalistyczna forma poezji japońskiej z XVII w., która jest związana z......
URL:https://app.evenea.pl/event/pisaniehaiku/
PRIORITY:1
CLASS:PUBLIC
END:VEVENT
END:VCALENDAR
