BEGIN:VCALENDAR
VERSION:2.0
METHOD:PUBLISH
BEGIN:VEVENT
DTSTART:20250227T170000
DTEND:20250227T170000
LOCATION:online   
TRANSP: OPAQUE
SEQUENCE:0
UID:
DTSTAMP:20260421T142210Z
SUMMARY:PIT Kasowy
DESCRIPTION:Poznań Biznes Partner oraz Wielkopolski Oddział Krajowej Izby Doradców Podatkowych zapraszają na bezpłatne szkolenie online pt. PIT KasowyTermin: 27 luty 2025 r. w godz. 17:00-18:00......
URL:https://app.evenea.pl/event/pitkasowy/
PRIORITY:1
CLASS:PUBLIC
END:VEVENT
END:VCALENDAR
