BEGIN:VCALENDAR
VERSION:2.0
METHOD:PUBLISH
BEGIN:VEVENT
DTSTART:20221214T090000
DTEND:20221214T210000
LOCATION:G2A Arena biuro@g2aarena.pl  Rzeszów
TRANSP: OPAQUE
SEQUENCE:0
UID:
DTSTAMP:20260420T151936Z
SUMMARY:Podkarpacki Kongres Gospodarczy || 14 GRUDNIA 2022 r. ||
DESCRIPTION:...
URL:https://app.evenea.pl/event/pkg2022/
PRIORITY:1
CLASS:PUBLIC
END:VEVENT
END:VCALENDAR
