BEGIN:VCALENDAR
VERSION:2.0
METHOD:PUBLISH
BEGIN:VEVENT
DTSTART:20240424T130000
DTEND:20240424T160000
LOCATION:Miejsce Otwarte. Centrum Integracji Międzykulturowej. Kraków os. Górali 24  Kraków
TRANSP: OPAQUE
SEQUENCE:0
UID:
DTSTAMP:20260423T053742Z
SUMMARY:Gramy w planszówki, rysujemy i pomagamy w lekcjach (7-14 lat) | We play board games, draw and help with lessons (7-14 years old) | Гра в настільні ігри, малювання та допомога з уроками (7-14 років)
DESCRIPTION:Grupa wiekowa: 7-14 lat Język prowadzenia: polski, ukraiński, angielskiPL: Serdecznie zapraszamy dzieci w wieku 7-14 lat do Miejsca Otwartego na wspólne gry i zabawy i pomoc materiałem......
URL:https://app.evenea.pl/event/planszowkirysowanielekcje2404/
PRIORITY:1
CLASS:PUBLIC
END:VEVENT
END:VCALENDAR
