BEGIN:VCALENDAR
VERSION:2.0
METHOD:PUBLISH
BEGIN:VEVENT
DTSTART:20250711T170000
DTEND:20250711T170000
LOCATION:Miejsce Aktywności Lokalnej Szerokie Możliwości ul. Nałęczowska 175  Lublin
TRANSP: OPAQUE
SEQUENCE:0
UID:
DTSTAMP:20260419T163948Z
SUMMARY:Playdates in English
DESCRIPTION:Czym są Playdates in English?\n\n	To spotkania dzieci i ich rodzice odkrywają świat języka angielskiego! Zasada jest prosta - w czasie naszego spotkania staramy się używać wyłącznie......
URL:https://app.evenea.pl/event/playdates-in-english-11/
PRIORITY:1
CLASS:PUBLIC
END:VEVENT
END:VCALENDAR
