BEGIN:VCALENDAR
VERSION:2.0
METHOD:PUBLISH
BEGIN:VEVENT
DTSTART:20200928T080000
DTEND:20200929T170000
LOCATION:ONLINE   
TRANSP: OPAQUE
SEQUENCE:0
UID:
DTSTAMP:20260423T144045Z
SUMMARY:PLNOG LIVE
DESCRIPTION:PLNOG to wydarzenie stworzone, aby dwa razy w roku zebrać polskich dostawców usług internetowych, operatorów sieci oraz entuzjastów rozwoju rynku ICT i ISP. Konferencja już od ponad 12 lat......
URL:https://app.evenea.pl/event/plnog-live/
PRIORITY:1
CLASS:PUBLIC
END:VEVENT
END:VCALENDAR
