BEGIN:VCALENDAR
VERSION:2.0
METHOD:PUBLISH
BEGIN:VEVENT
DTSTART:20200723T190000
DTEND:20200723T190000
LOCATION:   
TRANSP: OPAQUE
SEQUENCE:0
UID:
DTSTAMP:20260423T193106Z
SUMMARY:Jak uczyć się od indyka - wyzwania Świata VUCA
DESCRIPTION:Żyjemy w czasach gdzie zmiany przebiegają szybciej niż jesteśmy w stanie je zarejestrować. Rzeczywistość jest zmienna i nieprzewidywalna, wywołująca dużo niepewności.Inspiracją do......
URL:https://app.evenea.pl/event/pmislask/
PRIORITY:1
CLASS:PUBLIC
END:VEVENT
END:VCALENDAR
