BEGIN:VCALENDAR
VERSION:2.0
METHOD:PUBLISH
BEGIN:VEVENT
DTSTART:20240618T160000
DTEND:20240618T160000
LOCATION:PARK HOTEL DIAMENT KATOWICE**** - tel.+48 32 720 00 90 ul. Wita Stwosza 37  40-042 Katowice
TRANSP: OPAQUE
SEQUENCE:0
UID:
DTSTAMP:20260421T072551Z
SUMMARY:JACEK WALKIEWICZ - PEŁNA MOC MOŻLIWOŚCI - Katowice 2
DESCRIPTION:\n\n	\n\n	\n\n...
URL:https://app.evenea.pl/event/pmm-katowice2/
PRIORITY:1
CLASS:PUBLIC
END:VEVENT
END:VCALENDAR
