BEGIN:VCALENDAR
VERSION:2.0
METHOD:PUBLISH
BEGIN:VEVENT
DTSTART:20230913T110000
DTEND:20230913T110000
LOCATION:   
TRANSP: OPAQUE
SEQUENCE:0
UID:
DTSTAMP:20260424T160540Z
SUMMARY:Po co mediom prawnym prawnicy?
DESCRIPTION:Kolejny webinar Akademii Pana Lexa nie będzie typowym szkoleniem, jak dotychczas. Będzie natomiast spotkaniem i okazją do rozmowy na temat współpracy prawniczych mediów z prawnikami. Gościem......
URL:https://app.evenea.pl/event/pocomediom/
PRIORITY:1
CLASS:PUBLIC
END:VEVENT
END:VCALENDAR
