BEGIN:VCALENDAR
VERSION:2.0
METHOD:PUBLISH
BEGIN:VEVENT
DTSTART:20260513T170000
DTEND:20260513T180000
LOCATION:Biblioteka Publiczna w Piasecznie Jana Pawła II 55  Piaseczno
TRANSP: OPAQUE
SEQUENCE:0
UID:
DTSTAMP:20260420T145723Z
SUMMARY:Poczytajki
DESCRIPTION:Wspólne czytanie bajek połączone z pracą plastyczną.Spotkanie odbędzie się 13.05.2025 o godz. 17:00. Koszt 20 zł.Wiek dzieci 4,5 - 7 lat. Liczba miejsc ograniczona.Informacje telefonicznie......
URL:https://app.evenea.pl/event/poczytajkimaj/
PRIORITY:1
CLASS:PUBLIC
END:VEVENT
END:VCALENDAR
