BEGIN:VCALENDAR
VERSION:2.0
METHOD:PUBLISH
BEGIN:VEVENT
DTSTART:20251120T163000
DTEND:20251120T163000
LOCATION:   
TRANSP: OPAQUE
SEQUENCE:0
UID:
DTSTAMP:20260422T131407Z
SUMMARY:Podatek VAT krok po kroku - praktyczne szkolenie kompleksowe online
DESCRIPTION:Poznań Biznes Partner i firma KDM Edukacja Paweł Małecki, Elżbieta Tuszyńska zapraszają na bezpłatne 3-dniowe szkolenie online pt. Podatek VAT.Podatek od towarów i usług (VAT) jest jednym......
URL:https://app.evenea.pl/event/podatek-vat-listopad/
PRIORITY:1
CLASS:PUBLIC
END:VEVENT
END:VCALENDAR
