BEGIN:VCALENDAR
VERSION:2.0
METHOD:PUBLISH
BEGIN:VEVENT
DTSTART:20251209T090000
DTEND:20251209T150000
LOCATION:Urząd Gminy Czosnów (sala nr 15) ul. Gminna 6  05-152 Czosnów
TRANSP: OPAQUE
SEQUENCE:0
UID:
DTSTAMP:20260421T172218Z
SUMMARY:Szkolenie przygotowujące do aplikowania o wsparcie - 1.2 Podejmowanie pozarolniczej działalności gospodarczej
DESCRIPTION:Stowarzyszenie "Między Wisłą a Kampinosem" serdecznie zaprasza9 grudnia 2025 r. (wtorek) w godzinach 9:00-15:00do Urzędu Gminy Czosnów ul. Gminna 6, 05-152 Czosnów (sala nr 15, I piętro)na......
URL:https://app.evenea.pl/event/podejmowanie/
PRIORITY:1
CLASS:PUBLIC
END:VEVENT
END:VCALENDAR
