BEGIN:VCALENDAR
VERSION:2.0
METHOD:PUBLISH
BEGIN:VEVENT
DTSTART:20260527T171500
DTEND:20260527T181500
LOCATION:Biblioteka Publiczna w Piasecznie Jana Pawła II 55  Piaseczno
TRANSP: OPAQUE
SEQUENCE:0
UID:
DTSTAMP:20260420T193657Z
SUMMARY:Podróż w czasie
DESCRIPTION:Dinozaury, tajemnicze jaskinie i egipskie piramidy... Gdzie ukryto magiczny Klucz, który może uratować świat?Dołączcie do drużyny podróżników w czasie i wyruszcie na wyprawę pełną......
URL:https://app.evenea.pl/event/podrozwczasiemaj/
PRIORITY:1
CLASS:PUBLIC
END:VEVENT
END:VCALENDAR
