BEGIN:VCALENDAR
VERSION:2.0
METHOD:PUBLISH
BEGIN:VEVENT
DTSTART:20191015T160000
DTEND:20191015T180000
LOCATION:Hotel Mercure Stare Miasto Gdańsk ul. Jana Heweliusza 22  Gdańsk
TRANSP: OPAQUE
SEQUENCE:0
UID:
DTSTAMP:20260422T032630Z
SUMMARY:Jak zarabiać więcej na tworzeniu stron WWW i oszczędzać czas
DESCRIPTION:Jesteś właścicielem lub pracownikiem agencji reklamowej? Informatykiem albo Web Developerem? Chcesz zarabiać więcej robiąc to co dotychczas robisz najlepiej? Przyjdź spotkać się z nami 15......
URL:https://app.evenea.pl/event/polecaj-home-pl-trojmiasto/
PRIORITY:1
CLASS:PUBLIC
END:VEVENT
END:VCALENDAR
