BEGIN:VCALENDAR
VERSION:2.0
METHOD:PUBLISH
BEGIN:VEVENT
DTSTART:20260317T090000
DTEND:20260317T090000
LOCATION:University of Warsaw, Main Campus Krakowskie Przedmieście 26/28  Warszawa
TRANSP: OPAQUE
SEQUENCE:0
UID:
DTSTAMP:20260420T050620Z
SUMMARY:Polish-British Science Forum
DESCRIPTION:We are pleased to invite you to take part in the Polish-British Science Forum, which will be held on 17 March 2026, from 9:00 a.m. to 3:15 p.m., in the Column Hall (Faculty of History) at the Main......
URL:https://app.evenea.pl/event/polish-british-science-forum/
PRIORITY:1
CLASS:PUBLIC
END:VEVENT
END:VCALENDAR
