BEGIN:VCALENDAR
VERSION:2.0
METHOD:PUBLISH
BEGIN:VEVENT
DTSTART:20240518T090000
DTEND:20240518T200000
LOCATION:Linguaton ul. Paśnikowskiego 4A  Lublin
TRANSP: OPAQUE
SEQUENCE:0
UID:
DTSTAMP:20260420T234227Z
SUMMARY:Polish National V:tES Championship 2024
DESCRIPTION:Polish National V:tES Championship 2024Greetings fellow bloodsuckers! :)This year we'd like to invite you to join us in the struggle for the Polish National V:tES Championship in the beautiful city......
URL:https://app.evenea.pl/event/polish-national-vtes-championship-2024-lublin/
PRIORITY:1
CLASS:PUBLIC
END:VEVENT
END:VCALENDAR
