BEGIN:VCALENDAR
VERSION:2.0
METHOD:PUBLISH
BEGIN:VEVENT
DTSTART:20240713T150000
DTEND:20240713T200000
LOCATION:Stadion Polonii Warszawa Konwiktorska 6  Warszawa
TRANSP: OPAQUE
SEQUENCE:0
UID:
DTSTAMP:20260421T142400Z
SUMMARY:Polish Bowl XIX - Finał Polskiej Futbol Ligi I Warsaw Eagles - Lowlanders Białystok
DESCRIPTION:W sobotę 13 lipca w Warszawie, na stadionie Polonii przy ul. Konwiktorskiej 6 dwie najlepsze drużyny tegorocznego sezonu Polskiej Futbol Ligi powalczą o tytuł Mistrza Polski 🏈🏆Mecze......
URL:https://app.evenea.pl/event/polishbowxix/
PRIORITY:1
CLASS:PUBLIC
END:VEVENT
END:VCALENDAR
