BEGIN:VCALENDAR
VERSION:2.0
METHOD:PUBLISH
BEGIN:VEVENT
DTSTART:20251122T093000
DTEND:20251122T093000
LOCATION:Sala wykładowa nr 1.7, Wydział Nauk o Zdrowiu, UMB Szpitalna 37  Białystok
TRANSP: OPAQUE
SEQUENCE:0
UID:
DTSTAMP:20260425T032347Z
SUMMARY:IV Poranek Mentoringowy z Polkami w Medycynie 22.11.2025
DESCRIPTION:IV Poranek Mentoringowy z Polkami w MedycynieFormuła: Spotkanie na żywo Termin: 22 listopada 2025 r. (sobota)Tematyka: Leadership i mentoring w medycynieMiejsce: Sala wykładowa nr 1.7 Wydział......
URL:https://app.evenea.pl/event/polkiwmedycynie4poranek/
PRIORITY:1
CLASS:PUBLIC
END:VEVENT
END:VCALENDAR
