BEGIN:VCALENDAR
VERSION:2.0
METHOD:PUBLISH
BEGIN:VEVENT
DTSTART:20251015T090000
DTEND:20251015T120000
LOCATION:Duża Aula, Politechnika Warszawska Plac Politechniki 1  Warszawa
TRANSP: OPAQUE
SEQUENCE:0
UID:
DTSTAMP:20260421T112830Z
SUMMARY:"Polska sięga gwiazd" - spotkanie z dr. Sławoszem Uznańskim-Wiśniewskim w Politechnice Warszawskiej
DESCRIPTION:Wejście jest możliwe od godziny 8.00. Recepcja zostanie zamknięta o godzinie 8.45.Ze względu na duże zainteresowanie prosimy o przybycie przynajmniej 45 minut przed rozpoczęciem spotkania....
URL:https://app.evenea.pl/event/polska-siega-gwiazd-w/
PRIORITY:1
CLASS:PUBLIC
END:VEVENT
END:VCALENDAR
