BEGIN:VCALENDAR
VERSION:2.0
METHOD:PUBLISH
BEGIN:VEVENT
DTSTART:20220609T190000
DTEND:20220609T210000
LOCATION:Plama Gdański Archipelag Kultury Pilotów 11  Gdańsk
TRANSP: OPAQUE
SEQUENCE:0
UID:
DTSTAMP:20260420T013940Z
SUMMARY:PRL - Polska Republika Lękowa
DESCRIPTION:"PRL - Polska Republika Lękowa" to kolejna odsłona projektu realizowanego w ramach Trójmiejskich Dni Równości przez Stowarzyszenie Artystyczno-Społeczne FEERIA we współpracy ze......
URL:https://app.evenea.pl/event/polskarepublikalekowa2/
PRIORITY:1
CLASS:PUBLIC
END:VEVENT
END:VCALENDAR
