BEGIN:VCALENDAR
VERSION:2.0
METHOD:PUBLISH
BEGIN:VEVENT
DTSTART:20211204T180000
DTEND:20211220T200000
LOCATION:Warsaw Trade Tower ul. Chłodna 51  Warszawa
TRANSP: OPAQUE
SEQUENCE:0
UID:
DTSTAMP:20260423T163455Z
SUMMARY:POLSKA Z NIEBA - Wystawa fotografii lotniczych i premiera albumu
DESCRIPTION:Wydarzenie, na które Warszawiacy czekali od 2 lat! Wystawa nowych fotografii lotniczych duetu POLAND ON AIR- Aleksandry Łogusz i Macieja Margasa w wyjątkowym miejscu - na 35. piętrze WTT!Album......
URL:https://app.evenea.pl/event/polskaznieba/
PRIORITY:1
CLASS:PUBLIC
END:VEVENT
END:VCALENDAR
