BEGIN:VCALENDAR
VERSION:2.0
METHOD:PUBLISH
BEGIN:VEVENT
DTSTART:20220615T170000
DTEND:20220615T190000
LOCATION:   
TRANSP: OPAQUE
SEQUENCE:0
UID:
DTSTAMP:20260422T024501Z
SUMMARY:Zmiany w Polskim Ładzie
DESCRIPTION:Poznań Biznes Partner oraz Wielkopolski Oddział Krajowej Izby Doradców Podatkowych zapraszają na bezpłatne szkolenie online pt. "Zmiany w Polskim Ładzie".Termin: 15 czerwca 2022 r., godz.......
URL:https://app.evenea.pl/event/polskilad06/
PRIORITY:1
CLASS:PUBLIC
END:VEVENT
END:VCALENDAR
