BEGIN:VCALENDAR
VERSION:2.0
METHOD:PUBLISH
BEGIN:VEVENT
DTSTART:20260203T090000
DTEND:20260203T130000
LOCATION:Pomorski Park Naukowo-Technologiczny Gdynia Al. Zwycięstwa 96/98, budynek III, sala F/H  Gdynia
TRANSP: OPAQUE
SEQUENCE:0
UID:
DTSTAMP:20260424T134251Z
SUMMARY:Pomorskie Spotkanie Eksporterów
DESCRIPTION:kiedy: wtorek, 3 lutego 2026 r., godz. 09:00 - 13:00gdzie: PPNT Gdynia, budynek III, sala F/Hwstęp: bezpłatny Myślisz o ekspansji zagranicznej?A może już eksportujesz i chcesz wejść na......
URL:https://app.evenea.pl/event/pomorskiespotkanieeksporterow/
PRIORITY:1
CLASS:PUBLIC
END:VEVENT
END:VCALENDAR
