BEGIN:VCALENDAR
VERSION:2.0
METHOD:PUBLISH
BEGIN:VEVENT
DTSTART:20210709T190000
DTEND:20210709T190000
LOCATION:Instytut Cervantes w Warszawie Nowogrodzka 22  Warszawa
TRANSP: OPAQUE
SEQUENCE:0
UID:
DTSTAMP:20260421T152732Z
SUMMARY:Zaproszenie: Portret zamaskowany (inaugaracja wystawy)
DESCRIPTION:[PL] Zapraszamy na inaugurację wystawy Portret zamaskowany, pod opieką kuratorską Agnieszki Rożnowskiej. Wystawa Portret zamaskowany to wypowiedzi pięciu artystów i artystek - Pawła......
URL:https://app.evenea.pl/event/portretzamaskowany/
PRIORITY:1
CLASS:PUBLIC
END:VEVENT
END:VCALENDAR
