BEGIN:VCALENDAR
VERSION:2.0
METHOD:PUBLISH
BEGIN:VEVENT
DTSTART:20200226T180000
DTEND:20200226T210000
LOCATION:RESTAURACJA "Na Zdrowie" ul. Zdrowie 8  Łódź
TRANSP: OPAQUE
SEQUENCE:0
UID:
DTSTAMP:20260424T025713Z
SUMMARY:Akademia Pozytywnych Kobiet zaprasza na - ŁÓDŹ POSITIVE NIGHT!
DESCRIPTION:ŁÓDŹ POSITIVE NIGHT!ZAPRASZA AKADEMIA POZYTYWNYCH KOBIETZapraszamy wszystkie Kobiety na spotkaniew dniu 26 lutego 2020 rokuorganizowane przez Akademię Pozytywnych Kobiet!Tym razem spotykamy......
URL:https://app.evenea.pl/event/positivenightlodz/
PRIORITY:1
CLASS:PUBLIC
END:VEVENT
END:VCALENDAR
