BEGIN:VCALENDAR
VERSION:2.0
METHOD:PUBLISH
BEGIN:VEVENT
DTSTART:20251122T170000
DTEND:20251122T200000
LOCATION:Centrum Kultury Morena Zofii Nałkowskiej 3  Gdańsk
TRANSP: OPAQUE
SEQUENCE:0
UID:
DTSTAMP:20260424T090609Z
SUMMARY:POTAŃCÓWKA MIĘDZYPOKOLENIOWA | muzyka / taniec / integracja
DESCRIPTION:Gotowi na taneczny wieczór pełen muzyki i dobrej energii? 🕺Bo my tak - i zapraszamy Was na POTAŃCÓWKĘ MIĘDZYPOKOLENIOWĄ, gdzie tańczyć każdy może - bez względu na wiek, kroki czy......
URL:https://app.evenea.pl/event/potancowka-babizna/
PRIORITY:1
CLASS:PUBLIC
END:VEVENT
END:VCALENDAR
