BEGIN:VCALENDAR
VERSION:2.0
METHOD:PUBLISH
BEGIN:VEVENT
DTSTART:20241025T180000
DTEND:20241025T210000
LOCATION:Centrum Edukacji i Wsparcia os. Górali 24  Kraków
TRANSP: OPAQUE
SEQUENCE:0
UID:
DTSTAMP:20260423T061735Z
SUMMARY:Potańcówka w stylu greckim | Greek style dance party | Танцювальна вечірка у грецькому стилі
DESCRIPTION:Grupa wiekowa: dla dorosłych i seniorówJęzyk prowadzenia: polskiPL/ENG/UAChociaż za oknem jesień, dzięki potańcówce w stylu greckim gwarantujemy przeniesienie się na wieczór w cieplejszy......
URL:https://app.evenea.pl/event/potancowka-grecka/
PRIORITY:1
CLASS:PUBLIC
END:VEVENT
END:VCALENDAR
