BEGIN:VCALENDAR
VERSION:2.0
METHOD:PUBLISH
BEGIN:VEVENT
DTSTART:20240830T180000
DTEND:20240830T210000
LOCATION:Centrum Edukacji i Wsparcia os. Górali 24  Kraków
TRANSP: OPAQUE
SEQUENCE:0
UID:
DTSTAMP:20260423T061750Z
SUMMARY:Hawajska Potańcówka | Hawaiian Dance Party | Гавайська танцювальна вечірка
DESCRIPTION:Grupa wiekowa: dla dorosłych i seniorówJęzyk prowadzenia: polskiPL/ENG/UAAloha! 🌺🌴Już 30 sierpnia o 18:00 przeniesiemy się wspólnie na egzotyczne Hawaje podczas naszej Hawajskiej......
URL:https://app.evenea.pl/event/potancowka-hawajska/
PRIORITY:1
CLASS:PUBLIC
END:VEVENT
END:VCALENDAR
