BEGIN:VCALENDAR
VERSION:2.0
METHOD:PUBLISH
BEGIN:VEVENT
DTSTART:20241129T170000
DTEND:20241129T210000
LOCATION:Centrum Edukacji i Wsparcia os. Górali 24  Kraków
TRANSP: OPAQUE
SEQUENCE:0
UID:
DTSTAMP:20260423T150327Z
SUMMARY:Potańcówka Kubańska | Cuban dance party | Кубинська танцювальна вечірка
DESCRIPTION:Grupa wiekowa: dla dorosłych i seniorówJęzyk prowadzenia: polskiPL/ENG/UA¡Viva Cuba! Zapraszamy na gorącą Potańcówkę w rytmach kubańskich!🌴 Data: 29 listopada🕔 Godzina: 17:00📍......
URL:https://app.evenea.pl/event/potancowka-kubanska/
PRIORITY:1
CLASS:PUBLIC
END:VEVENT
END:VCALENDAR
