BEGIN:VCALENDAR
VERSION:2.0
METHOD:PUBLISH
BEGIN:VEVENT
DTSTART:20240726T180000
DTEND:20240726T210000
LOCATION:Centrum Edukacji i Wsparcia os. Górali 24  Kraków
TRANSP: OPAQUE
SEQUENCE:0
UID:
DTSTAMP:20260423T061751Z
SUMMARY:Fiesta - potańcówka w stylu latino | Fiesta - Latin dance party | Фієста - латиноамериканська танцювальна вечірка
DESCRIPTION:Grupa wiekowa: dla dorosłych i seniorówJęzyk prowadzenia: polskiFiesta - potańcówka w stylu latinoADRES: Centrum Edukacji i Wsparcia, osiedle Górali 24, KrakówDLA KOGO: wszyscySalsa,......
URL:https://app.evenea.pl/event/potancowkalatino/
PRIORITY:1
CLASS:PUBLIC
END:VEVENT
END:VCALENDAR
