BEGIN:VCALENDAR
VERSION:2.0
METHOD:PUBLISH
BEGIN:VEVENT
DTSTART:20221105T130000
DTEND:20221105T150000
LOCATION:Powązki-Friedhof Powązkowska 14  Warszawa
TRANSP: OPAQUE
SEQUENCE:0
UID:
DTSTAMP:20260420T223649Z
SUMMARY:05.11.2022 (sobota) - 13:00  "Stare Powązki - Gdy gaśnie pamięć ludzka, dalej mówią kamienie..." [Spacer]
DESCRIPTION:Cmentarz Powązkowski to jedna z najstarszych działających warszawskich nekropolii. Miejsce, w którym zatrzymując się przy grobach prezydentów miasta, artystów, przemysłowców czy......
URL:https://app.evenea.pl/event/powazki05112022/
PRIORITY:1
CLASS:PUBLIC
END:VEVENT
END:VCALENDAR
