BEGIN:VCALENDAR
VERSION:2.0
METHOD:PUBLISH
BEGIN:VEVENT
DTSTART:20250925T180000
DTEND:20250925T200000
LOCATION:Hotel Ibis Styles Żywiecka 93  43-300 Bielsko-Biała
TRANSP: OPAQUE
SEQUENCE:0
UID:
DTSTAMP:20260420T144655Z
SUMMARY:Power of Women - Bielsko-Biała - Siła kobiecej społeczności
DESCRIPTION:Power of Women to wyjątkowa przestrzeń, w której podkreślamy siłę i piękno Kobiet. To cykl spotkań, które inspirują, dodają pewności siebie i pomagają budować kobiecą siłę w......
URL:https://app.evenea.pl/event/powerofwomen2025bielskobialaontour/
PRIORITY:1
CLASS:PUBLIC
END:VEVENT
END:VCALENDAR
