BEGIN:VCALENDAR
VERSION:2.0
METHOD:PUBLISH
BEGIN:VEVENT
DTSTART:20250918T180000
DTEND:20250918T200000
LOCATION:Miejska Bilbioteka Publiczna Władysława Broniewskiego 10C  32-500 Chrzanów
TRANSP: OPAQUE
SEQUENCE:0
UID:
DTSTAMP:20260420T144618Z
SUMMARY:Power of Women - Chrzanów - Siła kobiecej społeczności
DESCRIPTION:Power of Women to wyjątkowa przestrzeń, w której podkreślamy siłę i piękno Kobiet. To cykl spotkań, które inspirują, dodają pewności siebie i pomagają budować kobiecą siłę w......
URL:https://app.evenea.pl/event/powerofwomen2025chrzanowontour/
PRIORITY:1
CLASS:PUBLIC
END:VEVENT
END:VCALENDAR
