BEGIN:VCALENDAR
VERSION:2.0
METHOD:PUBLISH
BEGIN:VEVENT
DTSTART:20250909T180000
DTEND:20250909T200000
LOCATION:Hotel Scout Drogowców 12  Częstochowa
TRANSP: OPAQUE
SEQUENCE:0
UID:
DTSTAMP:20260420T143230Z
SUMMARY:Power of Women - Częstochowa - Siła kobiecej społeczności
DESCRIPTION:Power of Women to wyjątkowa przestrzeń, w której podkreślamy siłę i piękno Kobiet. To cykl spotkań, które inspirują, dodają pewności siebie i pomagają budować kobiecą siłę w......
URL:https://app.evenea.pl/event/powerofwomen2025czestochowaontour/
PRIORITY:1
CLASS:PUBLIC
END:VEVENT
END:VCALENDAR
