BEGIN:VCALENDAR
VERSION:2.0
METHOD:PUBLISH
BEGIN:VEVENT
DTSTART:20250923T180000
DTEND:20250923T200000
LOCATION:Hotel Rezydent Plac Konstytucji 3 maja  81-704 Sopot
TRANSP: OPAQUE
SEQUENCE:0
UID:
DTSTAMP:20260422T004012Z
SUMMARY:Power of Women - Sopot - Siła kobiecej społeczności
DESCRIPTION:Power of Women to wyjątkowa przestrzeń, w której podkreślamy siłę i piękno Kobiet. To cykl spotkań, które inspirują, dodają pewności siebie i pomagają budować kobiecą siłę w......
URL:https://app.evenea.pl/event/powerofwomen2025sopotontour/
PRIORITY:1
CLASS:PUBLIC
END:VEVENT
END:VCALENDAR
