BEGIN:VCALENDAR
VERSION:2.0
METHOD:PUBLISH
BEGIN:VEVENT
DTSTART:20250920T160000
DTEND:20250920T180000
LOCATION:Bar Fantazja Dzierżoniowska 16d/1  57-100 Strzelin
TRANSP: OPAQUE
SEQUENCE:0
UID:
DTSTAMP:20260420T074008Z
SUMMARY:Power of Women - Strzelin - Siła kobiecej społeczności
DESCRIPTION:Power of Women to wyjątkowa przestrzeń, w której podkreślamy siłę i piękno Kobiet. To cykl spotkań, które inspirują, dodają pewności siebie i pomagają budować kobiecą siłę w......
URL:https://app.evenea.pl/event/powerofwomen2025strzelinontour/
PRIORITY:1
CLASS:PUBLIC
END:VEVENT
END:VCALENDAR
