BEGIN:VCALENDAR
VERSION:2.0
METHOD:PUBLISH
BEGIN:VEVENT
DTSTART:20250926T180000
DTEND:20250926T200000
LOCATION:Miejska Biblioteka Publiczna Narutowicza 10  32-540 Trzebinia
TRANSP: OPAQUE
SEQUENCE:0
UID:
DTSTAMP:20260420T142024Z
SUMMARY:Power of Women - Trzebinia - Siła kobiecej społeczności
DESCRIPTION:Power of Women to wyjątkowa przestrzeń, w której podkreślamy siłę i piękno Kobiet. To cykl spotkań, które inspirują, dodają pewności siebie i pomagają budować kobiecą siłę w......
URL:https://app.evenea.pl/event/powerofwomen2025trzebiniaontour/
PRIORITY:1
CLASS:PUBLIC
END:VEVENT
END:VCALENDAR
