BEGIN:VCALENDAR
VERSION:2.0
METHOD:PUBLISH
BEGIN:VEVENT
DTSTART:20241202T190000
DTEND:20241222T220000
LOCATION:   
TRANSP: OPAQUE
SEQUENCE:0
UID:
DTSTAMP:20260420T112631Z
SUMMARY:Rekolekcje adwentowe "Pozdrowienie anielskie"
DESCRIPTION:Tegoroczny adwent to przedsionek Roku Jubileuszowego. Papież Franciszek przygotowując nas do niego, ogłosił rok 2024 Rokiem Modlitwy. Chciał, żebyśmy weszli w Jubileusz z większą......
URL:https://app.evenea.pl/event/pozdrowienie-anielskie/
PRIORITY:1
CLASS:PUBLIC
END:VEVENT
END:VCALENDAR
