BEGIN:VCALENDAR
VERSION:2.0
METHOD:PUBLISH
BEGIN:VEVENT
DTSTART:20210926T090000
DTEND:20210926T180000
LOCATION:SP im. Macieja Rataja w Małocicach ul. Wojska Polskiego 76  05-152 Czosnów
TRANSP: OPAQUE
SEQUENCE:0
UID:
DTSTAMP:20260425T183218Z
SUMMARY:Poznaj potrawy regionalne - warsztaty kulinarne
DESCRIPTION:Szanowni Państwo!Stowarzyszenie "Między Wisła a Kampinosem" zaprasza do wzięcia udziału w warsztatach kulinarnych "Poznaj potrawy regionalne - warsztaty kulinarne".Operacja pn. "Poznaj potrawy......
URL:https://app.evenea.pl/event/poznajpotrawyregionalne-czosnow/
PRIORITY:1
CLASS:PUBLIC
END:VEVENT
END:VCALENDAR
