BEGIN:VCALENDAR
VERSION:2.0
METHOD:PUBLISH
BEGIN:VEVENT
DTSTART:20211003T090000
DTEND:20211003T180000
LOCATION:Zespół Rekreacyjno - Sportowy Kampinos A 30 A  05-085 Kampinos
TRANSP: OPAQUE
SEQUENCE:0
UID:
DTSTAMP:20260426T003314Z
SUMMARY:Poznaj potrawy regionalne - warsztaty kulinarne
DESCRIPTION:Szanowni Państwo!Stowarzyszenie "Między Wisła a Kampinosem" zaprasza do wzięcia udziału w warsztatach kulinarnych "Poznaj potrawy regionalne - warsztaty kulinarne".Operacja pn. "Poznaj potrawy......
URL:https://app.evenea.pl/event/poznajpotrawyregionalne-kampinos/
PRIORITY:1
CLASS:PUBLIC
END:VEVENT
END:VCALENDAR
