BEGIN:VCALENDAR
VERSION:2.0
METHOD:PUBLISH
BEGIN:VEVENT
DTSTART:20210919T090000
DTEND:20210919T180000
LOCATION:Centrum Kultury w Łomiankach ul. Wiejska 12A  05-092 Łomianki
TRANSP: OPAQUE
SEQUENCE:0
UID:
DTSTAMP:20260425T183010Z
SUMMARY:Poznaj potrawy regionalne - warsztaty kulinarne
DESCRIPTION:Szanowni Państwo!Stowarzyszenie "Między Wisła a Kampinosem" zaprasza do wzięcia udziału w warsztatach kulinarnych "Poznaj potrawy regionalne - warsztaty kulinarne".Operacja pn. "Poznaj potrawy......
URL:https://app.evenea.pl/event/poznajpotrawyregionalne-lomianki/
PRIORITY:1
CLASS:PUBLIC
END:VEVENT
END:VCALENDAR
