BEGIN:VCALENDAR
VERSION:2.0
METHOD:PUBLISH
BEGIN:VEVENT
DTSTART:20190924T170000
DTEND:20190924T193000
LOCATION:Sale Omega Dąbrowskiego 79 A  Poznań
TRANSP: OPAQUE
SEQUENCE:0
UID:
DTSTAMP:20260422T135836Z
SUMMARY:Trendy i wyzwania HR: #POZNANHR 2nd edition
DESCRIPTION:Z radością zapraszamy Was na drugą edycję spotkania Hr-owego w Poznaniu!Trendy i wyzwania HR: #POZNANHR 2nd editionPrzeanalizowaliśmy tematy, które podczas ostatniego wydarzenia Uczestnicy......
URL:https://app.evenea.pl/event/poznanhr/
PRIORITY:1
CLASS:PUBLIC
END:VEVENT
END:VCALENDAR
