BEGIN:VCALENDAR
VERSION:2.0
METHOD:PUBLISH
BEGIN:VEVENT
DTSTART:20230530T100000
DTEND:20230530T100000
LOCATION:Online   
TRANSP: OPAQUE
SEQUENCE:0
UID:
DTSTAMP:20260426T055457Z
SUMMARY:Pożyczka, jako pozadotacyjna forma wsparcia dla przedsiębiorców
DESCRIPTION:Poznań Biznes Partner oraz Wielkopolska Agencja Rozwoju Przedsiębiorczości zapraszają na bezpłatne spotkanie online pn. Pożyczka, jako pozadotacyjna forma wsparcia dla przedsiębiorców.Do......
URL:https://app.evenea.pl/event/pozyczkawarp/
PRIORITY:1
CLASS:PUBLIC
END:VEVENT
END:VCALENDAR
